BEGIN:VCALENDAR
VERSION:2.0
PRODID:-//Barrel &amp; Baskit - ECPv6.15.18//NONSGML v1.0//EN
CALSCALE:GREGORIAN
METHOD:PUBLISH
X-WR-CALNAME:Barrel &amp; Baskit
X-ORIGINAL-URL:https://barrelandbaskit.com
X-WR-CALDESC:Events for Barrel &amp; Baskit
REFRESH-INTERVAL;VALUE=DURATION:PT1H
X-Robots-Tag:noindex
X-PUBLISHED-TTL:PT1H
BEGIN:VTIMEZONE
TZID:America/New_York
BEGIN:DAYLIGHT
TZOFFSETFROM:-0500
TZOFFSETTO:-0400
TZNAME:EDT
DTSTART:20220313T070000
END:DAYLIGHT
BEGIN:STANDARD
TZOFFSETFROM:-0400
TZOFFSETTO:-0500
TZNAME:EST
DTSTART:20221106T060000
END:STANDARD
BEGIN:DAYLIGHT
TZOFFSETFROM:-0500
TZOFFSETTO:-0400
TZNAME:EDT
DTSTART:20230312T070000
END:DAYLIGHT
BEGIN:STANDARD
TZOFFSETFROM:-0400
TZOFFSETTO:-0500
TZNAME:EST
DTSTART:20231105T060000
END:STANDARD
BEGIN:DAYLIGHT
TZOFFSETFROM:-0500
TZOFFSETTO:-0400
TZNAME:EDT
DTSTART:20240310T070000
END:DAYLIGHT
BEGIN:STANDARD
TZOFFSETFROM:-0400
TZOFFSETTO:-0500
TZNAME:EST
DTSTART:20241103T060000
END:STANDARD
BEGIN:DAYLIGHT
TZOFFSETFROM:-0500
TZOFFSETTO:-0400
TZNAME:EDT
DTSTART:20250309T070000
END:DAYLIGHT
BEGIN:STANDARD
TZOFFSETFROM:-0400
TZOFFSETTO:-0500
TZNAME:EST
DTSTART:20251102T060000
END:STANDARD
BEGIN:DAYLIGHT
TZOFFSETFROM:-0500
TZOFFSETTO:-0400
TZNAME:EDT
DTSTART:20260308T070000
END:DAYLIGHT
BEGIN:STANDARD
TZOFFSETFROM:-0400
TZOFFSETTO:-0500
TZNAME:EST
DTSTART:20261101T060000
END:STANDARD
END:VTIMEZONE
BEGIN:VEVENT
DTSTART;TZID=America/New_York:20251219T160000
DTEND;TZID=America/New_York:20251219T180000
DTSTAMP:20260423T032446
CREATED:20251209T162944Z
LAST-MODIFIED:20251209T162944Z
UID:711-1766160000-1766167200@barrelandbaskit.com
SUMMARY:Holiday Sweater Fete Party!
DESCRIPTION:Join us for our annual Holiday get together! We will have foods\, drinks\, fun for kids\, music and MORE! We will also have gifts for everyone on your list to check out. This is a not-to-miss event!
URL:https://barrelandbaskit.com/event/holiday/
LOCATION:Barrel & Baskit\, 377 Main Street\, Hopkinton\, NH\, United States
CATEGORIES:Holiday Events,Tastings
END:VEVENT
BEGIN:VEVENT
DTSTART;TZID=America/New_York:20251209T173000
DTEND;TZID=America/New_York:20251209T190000
DTSTAMP:20260423T032446
CREATED:20251120T190434Z
LAST-MODIFIED:20251120T192752Z
UID:699-1765301400-1765306800@barrelandbaskit.com
SUMMARY:Holiday Event: Tipsy Tree Making!
DESCRIPTION:Our most popular event of the season makes its debut at Barrel & Baskit on December 9th starting at 5:30pm. Join our fun and creative Tipsy Tree making evening! \nWe supply the boxwood and all the decorations with tips and instruction from wine and floral expert extraordinaire\, Ambra Kash of Crush Wines. \nYour fee of $75.00 includes all the supplies as well as an appetizer and wine tasting bar\, of course! \nWe promise an evening of laughter and all the holly jolly of the season! \nTo register for this event\, please follow this link.
URL:https://barrelandbaskit.com/event/holiday-event-tipsy-tree-making/
LOCATION:Barrel & Baskit\, 377 Main Street\, Hopkinton\, NH\, United States
CATEGORIES:Holiday Events
ATTACH;FMTTYPE=image/png:https://barrelandbaskit.com/wp-content/uploads/2025/11/Untitled-design-18.png
END:VEVENT
BEGIN:VEVENT
DTSTART;TZID=America/New_York:20251201T130000
DTEND;TZID=America/New_York:20251201T170000
DTSTAMP:20260423T032446
CREATED:20251126T150705Z
LAST-MODIFIED:20251126T150705Z
UID:706-1764594000-1764608400@barrelandbaskit.com
SUMMARY:Local Holiday Shopping: It's A Wonderful Life
DESCRIPTION:On December 1st\, we will be screening holiday favorites like It’s A Wonderful Life\, then offering Sip & Shop with special surprises after school! Join us for this sparkly\, local event.
URL:https://barrelandbaskit.com/event/local-holiday-shopping-its-a-wonderful-life/
LOCATION:Barrel & Baskit\, 377 Main Street\, Hopkinton\, NH\, United States
CATEGORIES:Community Events,Holiday Events,Tastings
ATTACH;FMTTYPE=image/png:https://barrelandbaskit.com/wp-content/uploads/2025/11/ITS-A-WONDERFUL-LIFE.png
END:VEVENT
BEGIN:VEVENT
DTSTART;TZID=America/New_York:20251120T173000
DTEND;TZID=America/New_York:20251120T190000
DTSTAMP:20260423T032446
CREATED:20251027T181259Z
LAST-MODIFIED:20251027T181449Z
UID:690-1763659800-1763665200@barrelandbaskit.com
SUMMARY:Sip & Script: Intro to Calligraphy
DESCRIPTION:Join us at Barrel & Baskit in Hopkinton\, NH for an evening of learning pretty lettering! Whether you’re a stationery nerd\, DIY spouse-to-be\, or just a crafty individual\, in this workshop you’ll be learning an introduction to modern calligraphy with a pointed dip pen and ink. We will cover all the basics and get you ready to add those special lettered details to all your holiday tables\, Christmas trees\, hostess gifts\, gift tags\, holiday card mailings and more!\nClass includes 1.5 hours of instruction and demonstration\, our beginner’s calligraphy kit (two nibs\, black ink pot\, 2 letter guides\, tracing paper and straight pen holder)\, and all materials to write on. Everything is yours to keep at the end of the workshop! Additionally\, we will be working on lettering envelopes and place cards as an extra project! Plus\, wine tastings throughout the class as well as appetizers! \nBe sure to show up beforehand for wine tastings from 4-6pm as well! \nBuy your tickets here
URL:https://barrelandbaskit.com/event/sip-script-intro-to-calligraphy/
LOCATION:Barrel & Baskit\, 377 Main Street\, Hopkinton\, NH\, United States
CATEGORIES:Holiday Events,Tastings
END:VEVENT
BEGIN:VEVENT
DTSTART;TZID=America/New_York:20250110T120000
DTEND;TZID=America/New_York:20250111T120000
DTSTAMP:20260423T032446
CREATED:20241231T001348Z
LAST-MODIFIED:20250103T220924Z
UID:407-1736510400-1736596800@barrelandbaskit.com
SUMMARY:Black Forest Nursery Plant Pop Up & Sip and Shop
DESCRIPTION:*Click title for more details.* Come celebrate National Houseplant Day on January 10th as the front of the store becomes a lush and green oasis with plants from Black Forest Nursery. \nPlants arrive 12noon Friday\, for sale through 12noon Saturday.  \nThe best time to shop is Friday\, 4:30-6:30pm when Ambra from Stonefence Beverage treats us to a Sip & Shop Wine Tasting!  \nMore at Facebook: Black Forest Nursery Plant Pop Up & Sip and Shop Wine Tasting 
URL:https://barrelandbaskit.com/event/black-forest-nursery-plant-pop-up-sip-and-shop/
LOCATION:Barrel & Baskit\, 377 Main Street\, Hopkinton\, NH\, United States
CATEGORIES:Holiday Events,Tastings
ATTACH;FMTTYPE=image/png:https://barrelandbaskit.com/wp-content/uploads/2024/12/PLANT-POP-UP-1.png
END:VEVENT
BEGIN:VEVENT
DTSTART;TZID=America/New_York:20241222T160000
DTEND;TZID=America/New_York:20241222T173000
DTSTAMP:20260423T032446
CREATED:20241212T110021Z
LAST-MODIFIED:20241212T225751Z
UID:374-1734883200-1734888600@barrelandbaskit.com
SUMMARY:Reindeer Flow Yoga and Tasting Event
DESCRIPTION:Our friend Tina will lead us in a gentle\, de-stressing yoga that will make our reindeer friends proud. Following our restorative savasana\, we will enjoy reindeer brie and charcuterie treats along with beer\, wine\, and non-alcoholic tastings. \nMore info on our Facebook Page \nTickets available at our  ONLINE ORDERING PAGE: select “Events.” Space is limited\, reserve your spot today!
URL:https://barrelandbaskit.com/event/reindeer-flow-yoga/
LOCATION:Barrel & Baskit\, 377 Main Street\, Hopkinton\, NH\, United States
CATEGORIES:Holiday Events,Tastings
ATTACH;FMTTYPE=image/jpeg:https://barrelandbaskit.com/wp-content/uploads/2024/12/reindeer-flow-yoga-and-tasting.jpg
END:VEVENT
BEGIN:VEVENT
DTSTART;TZID=America/New_York:20241220T153000
DTEND;TZID=America/New_York:20241220T183000
DTSTAMP:20260423T032446
CREATED:20241210T183114Z
LAST-MODIFIED:20241212T050809Z
UID:364-1734708600-1734719400@barrelandbaskit.com
SUMMARY:Sweater Fete and Neighborly Nosh
DESCRIPTION:Don your best and/or ugliest sweater and stop in to our open house from 3:30 to 6:30 with tasty samplers of our holiday menu\, a wine and beer tasting and kids activities and caroling. Perfect to stop by as you are coming home from school or work or as you head out to other festivities! We love that so many of you have requested that we make this a community tradition and can’t wait to see you!
URL:https://barrelandbaskit.com/event/sweater-fete-and-neighborly-nosh/
LOCATION:Barrel & Baskit\, 377 Main Street\, Hopkinton\, NH\, United States
CATEGORIES:Community Events,Holiday Events
ATTACH;FMTTYPE=image/jpeg:https://barrelandbaskit.com/wp-content/uploads/2024/12/sweaterfete.jpg
END:VEVENT
BEGIN:VEVENT
DTSTART;TZID=America/New_York:20231215T160000
DTEND;TZID=America/New_York:20231215T190000
DTSTAMP:20260423T032446
CREATED:20231204T205121Z
LAST-MODIFIED:20231204T205121Z
UID:126-1702656000-1702666800@barrelandbaskit.com
SUMMARY:Sweater Fete: A Christmas Party for the Community
DESCRIPTION:SAVE THE DATE of Friday\, December 15th for our Sweater Fete! \nThis holiday celebration (free) will be filled with appetizer samplings of Chef Rony’s holiday appetizer creations\, wine and beer tastings and carols sung by Beatrice Dapice. \nSwing by from 4 to 7pm to celebrate our first six months of operation as well as National Ugly Sweater Day\, so wear your best sweater (prizes for both our favorite pretty sweater and ugly sweater!) and celebrate the season with us!
URL:https://barrelandbaskit.com/event/sweater-fete-a-christmas-party-for-the-community/
LOCATION:Barrel & Baskit\, 377 Main Street\, Hopkinton\, NH\, United States
CATEGORIES:Holiday Events
ATTACH;FMTTYPE=image/jpeg:https://barrelandbaskit.com/wp-content/uploads/2023/12/sweater.jpg
END:VEVENT
BEGIN:VEVENT
DTSTART;TZID=America/New_York:20231210T093000
DTEND;TZID=America/New_York:20231210T110000
DTSTAMP:20260423T032446
CREATED:20231130T192137Z
LAST-MODIFIED:20231205T120238Z
UID:99-1702200600-1702206000@barrelandbaskit.com
SUMMARY:Flannel & Frost Family Snowman Breakfast and Craft
DESCRIPTION:Come enjoy a delightful plated snowman themed pancake breakfast with your friends at Barrel & Baskit\, followed by a fun take away activity for the kids! \nTickets are $12.00 each and are available online by clicking here.
URL:https://barrelandbaskit.com/event/flannel-frost-family-snowman-breakfast-and-craft/
LOCATION:Barrel & Baskit\, 377 Main Street\, Hopkinton\, NH\, United States
CATEGORIES:Holiday Events
ATTACH;FMTTYPE=image/jpeg:https://barrelandbaskit.com/wp-content/uploads/2023/11/406415499_216692674801029_5036453812350951292_n.jpeg
END:VEVENT
BEGIN:VEVENT
DTSTART;TZID=America/New_York:20231207T180000
DTEND;TZID=America/New_York:20231207T200000
DTSTAMP:20260423T032446
CREATED:20231129T230342Z
LAST-MODIFIED:20231129T231458Z
UID:75-1701972000-1701979200@barrelandbaskit.com
SUMMARY:Tipsy Treemaking
DESCRIPTION:Our most popular event of the season makes its debut at Barrel & Baskit on December 7th from 6pm-8pm\nJoin our fun and creative Tipsy Treemaking evening! \nWe supply the boxwood and all the decorations with tips and instruction from wine and floral expert extraordinaire\, Ambra Kash of Crush Wines. \nYour fee of $80.00 includes all the supplies as well as an appetizer and wine tasting bar including sugar cookies and chardonnay\, of course! \nWe promise an evening of laughter and all the holly jolly of the season! \nTo register for this event\, please follow this link.
URL:https://barrelandbaskit.com/event/tipsy-treemaking/
LOCATION:Barrel & Baskit\, 377 Main Street\, Hopkinton\, NH\, United States
CATEGORIES:Holiday Events
ATTACH;FMTTYPE=image/jpeg:https://barrelandbaskit.com/wp-content/uploads/2023/11/tipsy-trees.jpeg
END:VEVENT
END:VCALENDAR